BEGIN:VCALENDAR
VERSION:2.0
PRODID:-//Nacionalni katehetski ured - ECPv4.9.13//NONSGML v1.0//EN
CALSCALE:GREGORIAN
METHOD:PUBLISH
X-WR-CALNAME:Nacionalni katehetski ured
X-ORIGINAL-URL:https://nku.hbk.hr
X-WR-CALDESC:Događaji za Nacionalni katehetski ured
BEGIN:VTIMEZONE
TZID:Europe/Paris
BEGIN:DAYLIGHT
TZOFFSETFROM:+0100
TZOFFSETTO:+0200
TZNAME:CEST
DTSTART:20240331T010000
END:DAYLIGHT
BEGIN:STANDARD
TZOFFSETFROM:+0200
TZOFFSETTO:+0100
TZNAME:CET
DTSTART:20241027T010000
END:STANDARD
END:VTIMEZONE
BEGIN:VEVENT
DTSTART;TZID=Europe/Paris:20240219T080000
DTEND;TZID=Europe/Paris:20240220T180000
DTSTAMP:20260421T151745
CREATED:20240110T135329Z
LAST-MODIFIED:20240110T135329Z
UID:4286-1708329600-1708452000@nku.hbk.hr
SUMMARY:Katehetska zimska škola za vjeroučitelje u osnovnim školama
DESCRIPTION:“Sve je skoro moguće! O bioetičkim temama i odgoju savjesti.” \n
URL:https://nku.hbk.hr/event/katehetska-zimska-skola-za-vjeroucitelje-u-osnovnim-skolama-3/
LOCATION:Nadbiskupijski pastoralni institut\, Zagreb\, Croatia (Local Name: Hrvatska)
END:VEVENT
END:VCALENDAR